BEGIN:VCALENDAR
VERSION:2.0
PRODID:-//ChamberMaster//Event Calendar 2.0//EN
METHOD:PUBLISH
X-PUBLISHED-TTL:P1H
REFRESH-INTERVAL:P1H
CALSCALE:GREGORIAN
BEGIN:VTIMEZONE
TZID:America/Chicago
BEGIN:DAYLIGHT
RRULE:FREQ=YEARLY;BYMONTH=3;BYDAY=2SU
DTSTART:20070101T000000
TZOFFSETFROM:-0600
TZOFFSETTO:-0500
TZNAME:Central Daylight Time
END:DAYLIGHT
BEGIN:STANDARD
RRULE:FREQ=YEARLY;BYMONTH=11;BYDAY=1SU
DTSTART:20070101T000000
TZOFFSETFROM:-0500
TZOFFSETTO:-0600
TZNAME:Central Standard Time
END:STANDARD
END:VTIMEZONE
BEGIN:VEVENT
DTSTART;TZID=America/Chicago:20260502T130000
DTEND;TZID=America/Chicago:20260502T150000
X-MICROSOFT-CDO-ALLDAYEVENT:FALSE
SUMMARY:What Makes Your Soul Breathe
DESCRIPTION:Something unusual is about to unfold on the campus of South Dakota State University\, and\nthe public is invited to be part of it. What Makes Your Soul Breathe is not a typical art event.\nIt is a live\, interactive happening where visual art\, performance\, and audience participation\ncollide in a vibrant\, open-air experience designed to spark curiosity and ignite creativity.\n\nThis multidisciplinary event combines the talents of four SDSU departments and features\nlive dance performances\, evolving paintings created on-site\, live music\, and wearable art\nthat moves through the crowd. But the real focus is the audience. Visitors won’t just watch\,\nthey’ll participate. Expect hands-on opportunities to create your own artwork\, contribute to\ncollaborative pieces\, and even leave with something you’ve made.\n\nFrom 1–3 p.m. on May 2nd\, Sylvan Green will transform into a playful creative zone where\neveryone\, regardless of experience\, is encouraged to jump in\, make something\, and discover\nwhat creativity feels like in real time.\n\nAt its core\, What Makes Your Soul Breathe is about access\, joy\, and discovery. It removes the\nbarrier between artist and audience\, offering a space where creativity is immediate\, social\,\nand shared. Whether you stay for five minutes or the full two hours\, the experience is\ndesigned to be welcoming\, energizing\, and unpredictable.\n\nAll activities are free and open to the public of all ages. Materials are provided\, and no prior\nart experience is needed\, just a willingness to engage. There is no charge for the event and\nparticipants are asked to assemble on the front steps of the South Dakota Art Museum at 1\np.m. Bring your curiosity. Bring a friend. And be ready to leave with more than you arrived\nwith.
X-ALT-DESC;FMTTYPE=text/html:Something unusual is about to unfold on the campus of South Dakota State University\, and\nthe public is invited to be part of it. What Makes Your Soul Breathe is not a typical art event.\nIt is a live\, interactive happening where visual art\, performance\, and audience participation\ncollide in a vibrant\, open-air experience designed to spark curiosity and ignite creativity.\n\nThis multidisciplinary event combines the talents of four SDSU departments and features\nlive dance performances\, evolving paintings created on-site\, live music\, and wearable art\nthat moves through the crowd. But the real focus is the audience. Visitors won’t just watch\,\nthey’ll participate. Expect hands-on opportunities to create your own artwork\, contribute to\ncollaborative pieces\, and even leave with something you’ve made.\n\nFrom 1–3 p.m. on May 2nd\, Sylvan Green will transform into a playful creative zone where\neveryone\, regardless of experience\, is encouraged to jump in\, make something\, and discover\nwhat creativity feels like in real time.\n\nAt its core\, What Makes Your Soul Breathe is about access\, joy\, and discovery. It removes the\nbarrier between artist and audience\, offering a space where creativity is immediate\, social\,\nand shared. Whether you stay for five minutes or the full two hours\, the experience is\ndesigned to be welcoming\, energizing\, and unpredictable.\n\nAll activities are free and open to the public of all ages. Materials are provided\, and no prior\nart experience is needed\, just a willingness to engage. There is no charge for the event and\nparticipants are asked to assemble on the front steps of the South Dakota Art Museum at 1\np.m. Bring your curiosity. Bring a friend. And be ready to leave with more than you arrived\nwith.
LOCATION:940 Medary Ave Brookings SD 57007
UID:e.3606.1438772
SEQUENCE:3
DTSTAMP:20260426T000229Z
URL:https://business.brookingschamber.org/chamber-events/Details/what-makes-your-soul-breathe-1702973?sourceTypeId=Hub
END:VEVENT
END:VCALENDAR
